BEGIN:VCALENDAR
VERSION:2.0
PRODID:-//Tukios.com/
BEGIN:VEVENT
UID:af585911-78ac-47fc-b5e9-3921d3136c08@www.kohlsfh.com
DTSTAMP:20260421T210639Z
DTSTART:20260425T180000Z
DTEND:20260425T190000Z
SUMMARY:Visitation
DESCRIPTION:
URL:https://www.kohlsfh.com/obituaries/hazel-sam-whittaker
LOCATION: 868 N Margaret St PO Box 344  Markesan WI 53946
GEO:43.7156499;-88.9896849
END:VEVENT
END:VCALENDAR