BEGIN:VCALENDAR
VERSION:2.0
PRODID:-//Tukios.com/
BEGIN:VEVENT
UID:d9188a51-3b8e-474f-8f09-df9858d60b1c@www.kohlsfh.com
DTSTAMP:20260421T210301Z
DTSTART:20260425T190000Z
DTEND:20260425T200000Z
SUMMARY:Memorial Service
DESCRIPTION:
URL:https://www.kohlsfh.com/obituaries/hazel-sam-whittaker
LOCATION: 868 N Margaret St PO Box 344  Markesan WI 53946
GEO:43.7156499;-88.9896849
END:VEVENT
END:VCALENDAR