BEGIN:VCALENDAR
VERSION:2.0
PRODID:-//Tukios.com/
BEGIN:VEVENT
UID:112bc674-f8bc-4626-a002-b54b1aaa3df1@www.kohlsfh.com
DTSTAMP:20260421T212632Z
DTSTART:20260502T140000Z
DTEND:20260502T160000Z
SUMMARY:Visitation
DESCRIPTION:
URL:https://www.kohlsfh.com/obituaries/marvin-olson
LOCATION:Markesan Community Funeral Home 868 North Margaret Street  
	Markesan WI 53946
GEO:43.7156499;-88.9896849
END:VEVENT
END:VCALENDAR