BEGIN:VCALENDAR
VERSION:2.0
PRODID:-//Tukios.com/
BEGIN:VEVENT
UID:f193cb24-5b2a-453e-ae4d-c14765c63f8a@www.kohlsfh.com
DTSTAMP:20260421T211529Z
DTSTART:20260502T160000Z
DTEND:20260502T170000Z
SUMMARY:Celebration of Life
DESCRIPTION:
URL:https://www.kohlsfh.com/obituaries/marvin-olson
LOCATION:Markesan Community Funeral Home 868 North Margaret Street  
	Markesan WI 53946
GEO:43.7156499;-88.9896849
END:VEVENT
END:VCALENDAR